BEGIN:VCALENDAR
VERSION:2.0
PRODID:-//eventon.com NONSGML v1.0//EN
CALSCALE:GREGORIAN
METHOD:PUBLISH
BEGIN:VEVENT
UID:69ea87127e67a
DTSTAMP:20260423T205442Z
DTSTART:20260422T070000Z
DTEND:20260422T080000Z
LOCATION:
SUMMARY:Biotinkering : Entomology Jr
DESCRIPTION:Biotinkering : Entomology Jr\nhttps://seriaenergylab.com/events
 /biotinkering-entomology-jr-2/var/ri-2.l-L1
URL:https://seriaenergylab.com/events/biotinkering-entomology-jr-2/var/ri-2.l-L1
END:VEVENT
END:VCALENDAR