BEGIN:VCALENDAR
VERSION:2.0
PRODID:-//eventon.com NONSGML v1.0//EN
CALSCALE:GREGORIAN
METHOD:PUBLISH
BEGIN:VEVENT
UID:69e4f4444a0c0
DTSTAMP:20260419T152700Z
DTSTART:20260424T070000Z
DTEND:20260424T080000Z
LOCATION:
SUMMARY:Biotinkering : Entomology Jr
DESCRIPTION:Biotinkering : Entomology Jr\nhttps://seriaenergylab.com/events
 /biotinkering-entomology-jr-2/var/ri-3.l-L1
URL:https://seriaenergylab.com/events/biotinkering-entomology-jr-2/var/ri-3.l-L1
END:VEVENT
END:VCALENDAR